BEGIN:VCALENDAR
VERSION:2.0
PRODID:-//Bird Conservancy of the Rockies - ECPv6.15.20//NONSGML v1.0//EN
CALSCALE:GREGORIAN
METHOD:PUBLISH
X-WR-CALNAME:Bird Conservancy of the Rockies
X-ORIGINAL-URL:https://www.birdconservancy.org
X-WR-CALDESC:Events for Bird Conservancy of the Rockies
REFRESH-INTERVAL;VALUE=DURATION:PT1H
X-Robots-Tag:noindex
X-PUBLISHED-TTL:PT1H
BEGIN:VTIMEZONE
TZID:America/Denver
BEGIN:DAYLIGHT
TZOFFSETFROM:-0700
TZOFFSETTO:-0600
TZNAME:MDT
DTSTART:20240310T090000
END:DAYLIGHT
BEGIN:STANDARD
TZOFFSETFROM:-0600
TZOFFSETTO:-0700
TZNAME:MST
DTSTART:20241103T080000
END:STANDARD
BEGIN:DAYLIGHT
TZOFFSETFROM:-0700
TZOFFSETTO:-0600
TZNAME:MDT
DTSTART:20250309T090000
END:DAYLIGHT
BEGIN:STANDARD
TZOFFSETFROM:-0600
TZOFFSETTO:-0700
TZNAME:MST
DTSTART:20251102T080000
END:STANDARD
BEGIN:DAYLIGHT
TZOFFSETFROM:-0700
TZOFFSETTO:-0600
TZNAME:MDT
DTSTART:20260308T090000
END:DAYLIGHT
BEGIN:STANDARD
TZOFFSETFROM:-0600
TZOFFSETTO:-0700
TZNAME:MST
DTSTART:20261101T080000
END:STANDARD
END:VTIMEZONE
BEGIN:VEVENT
DTSTART;VALUE=DATE:20250902
DTEND;VALUE=DATE:20250907
DTSTAMP:20260421T055948
CREATED:20250730T140523Z
LAST-MODIFIED:20250730T140523Z
UID:28601-1756771200-1757203199@www.birdconservancy.org
SUMMARY:Pineridge Banding Station
DESCRIPTION:During a visit to our banding station you will have a unique opportunity to experience science in action and observe a wildlife biologist banding and collecting important scientific data on live\, migrating birds. This program is provided at no cost to participants due to generous support from donors\, but registration is required for all individuals and groups. Groups are limited to 15 people per one hour time slot. One hour programs are available Tuesday – Friday from 7:30-8:30 a.m. and Saturdays from 7:30-8:30 a.m. and 8:30 – 9:30 a.m. (closed Sundays & Mondays). \n\nClick Here to Register! \n\nLocation: North end of Dixon Reservoir within Pineridge Natural Area Fort Collins\, CO\nParking lot: 3502 CR 42C\, Fort Collins\, CO 80526 \nFall 2025 dates: Open September 2nd through October 11th\, open Tuesday through Saturday. \nCommonly banded birds: Spotted Towhee\, White-crowned Sparrow\, Orange-crowned Warbler\, Wilson’s Warbler (fall)\, House Wren. \n\n\n\n\nPlease contact Education Manager\, Stephanie Wheeler or (970) 482-1707 x 40 for more information. \nSchool programs are available from 9 a.m.- 12 p.m. on Tuesday and Friday\, For more information and to schedule your school program\, please contact us.
URL:https://www.birdconservancy.org/event/pineridge-banding-station-7/
LOCATION:Pineridge Banding Station\, 3502 CR 42C\, Fort Collins\, CO\, 80526
CATEGORIES:Community Program
ORGANIZER;CN="Stephanie Wheeler%2C Education Manager":MAILTO:stephanie.wheeler@birdconservancy.org
END:VEVENT
BEGIN:VEVENT
DTSTART;VALUE=DATE:20250902
DTEND;VALUE=DATE:20250908
DTSTAMP:20260421T055948
CREATED:20250617T161515Z
LAST-MODIFIED:20250617T161515Z
UID:28474-1756771200-1757289599@www.birdconservancy.org
SUMMARY:Barr Lake Banding Station
DESCRIPTION:Migration is a magical time of year! Join us for a unique opportunity to experience science in action and observe a wildlife biologist banding and collecting important scientific data on live\, migrating birds. The data collected gives us insight to many aspects of avian life history and can be used to inform conservation decisions. \nClick Here to Register! \nScholarships are available! Please apply before registering for your visit. You can apply by clicking here. \nOpen to the public August 23 through October 23\, six days a week (closed Mondays). Weekday programs available from 7:30 – 8:30 a.m.\, and weekend programs are available from 8-9 a.m.\, 9-10 a.m.\, and 10-11 a.m. \nSchedule is weather permitting. Station is closed during precipitation or high winds\, and may close early during very hot weather and open later if very cold. \nAccess to the Banding Station requires traveling ~1/4 of a mile on a gravel trail. Please let us know if we can offer any accommodations or assistance to help you get to the Station. Please note\, the Banding Station is in a new temporary location this year. Instructions will be included in your confirmation email. \nParking is available at the Barr Lake State Park Nature Center Parking lot ($10/vehicle Daily Entrance Fee; Annual State Park Pass; or Keep Colorado Wild Pass entrance fee applies) – 13401 Picadilly Road\, Brighton\, CO 80603. Accessible parking and accessible restrooms are available. \nIf you have any questions\, please contact Sarah Doxon\, Education Manager\, at sarah.doxon@birdconservancy.org or (303) 659-4348 x53
URL:https://www.birdconservancy.org/event/barr-lake-banding-station-3/
LOCATION:Barr Lake Banding Station\, 13401 Picadilly Road\, Brighton\, CO\, 80603
CATEGORIES:Community Program
ORGANIZER;CN="Sarah Doxon%2C Education Manager":MAILTO:sarah.doxon@birdconservancy.org
END:VEVENT
BEGIN:VEVENT
DTSTART;TZID=America/Denver:20250906T100000
DTEND;TZID=America/Denver:20250906T113000
DTSTAMP:20260421T055948
CREATED:20250814T194009Z
LAST-MODIFIED:20250814T194009Z
UID:28634-1757152800-1757158200@www.birdconservancy.org
SUMMARY:Family Nature Club
DESCRIPTION:Family Nature Club is designed for children and their grown-ups as an opportunity to spend time in nature\, regardless of the season\, to play interactive & engaging games together\, and to learn about Western Nebraska’s unique wildlife and landscape. Every month will feature a new nature topic. \nClick here to register you family! \nWe hope to explore the natural wonders of western Nebraska with your family every month this year. \nFamily Nature Club is intended for children and their grown-ups. Each family group will receive an Exploration Kit to use during the series to explore the natural world around them at home. Family Nature Club will be outside the entire time unless otherwise noted. Please dress comfortably for the weather and bring snacks/water as needed. \nFamily Nature Club will be gathering at the Scotts Bluff National Monument\, 190276 Old Oregon Trail\, Gering\, NE 69341 . \nFor more information 308-633-1013. \nThanks to generous support from individual donations\, our programs are offered at NO COST to you! Want to help keep our programs at no cost? Consider donating to Bird Conservancy’s – Nebraska Education Program. \nAll are welcome. Our community of practice is to be an organization that empowers people of all backgrounds\, beliefs\, colors\, and creeds to join in\, benefit from\, and contribute to our mission. We strive to ensure everyone feels safe and included at our programs and events\, and can find a place for themselves in nature
URL:https://www.birdconservancy.org/event/family-nature-club/
LOCATION:Scotts Bluff National Monument\, 190276 Old Oregon Trail\, Gering\, NE\, 69341
CATEGORIES:Community Program
ORGANIZER;CN="Delanie Bruce%2C Education Manager":MAILTO:delanie.bruce@birdconservancy.org
END:VEVENT
BEGIN:VEVENT
DTSTART;VALUE=DATE:20250909
DTEND;VALUE=DATE:20250914
DTSTAMP:20260421T055948
CREATED:20250730T140634Z
LAST-MODIFIED:20250730T140634Z
UID:28603-1757376000-1757807999@www.birdconservancy.org
SUMMARY:Pineridge Banding Station
DESCRIPTION:During a visit to our banding station you will have a unique opportunity to experience science in action and observe a wildlife biologist banding and collecting important scientific data on live\, migrating birds. This program is provided at no cost to participants due to generous support from donors\, but registration is required for all individuals and groups. Groups are limited to 15 people per one hour time slot. One hour programs are available Tuesday – Friday from 7:30-8:30 a.m. and Saturdays from 7:30-8:30 a.m. and 8:30 – 9:30 a.m. (closed Sundays & Mondays). \n\nClick Here to Register! \n\nLocation: North end of Dixon Reservoir within Pineridge Natural Area Fort Collins\, CO\nParking lot: 3502 CR 42C\, Fort Collins\, CO 80526 \nFall 2025 dates: Open September 2nd through October 11th\, open Tuesday through Saturday. \nCommonly banded birds: Spotted Towhee\, White-crowned Sparrow\, Orange-crowned Warbler\, Wilson’s Warbler (fall)\, House Wren. \n\n\n\n\nPlease contact Education Manager\, Stephanie Wheeler or (970) 482-1707 x 40 for more information. \nSchool programs are available from 9 a.m.- 12 p.m. on Tuesday and Friday\, For more information and to schedule your school program\, please contact us.
URL:https://www.birdconservancy.org/event/pineridge-banding-station-8/
LOCATION:Pineridge Banding Station\, 3502 CR 42C\, Fort Collins\, CO\, 80526
CATEGORIES:Community Program
ORGANIZER;CN="Stephanie Wheeler%2C Education Manager":MAILTO:stephanie.wheeler@birdconservancy.org
END:VEVENT
BEGIN:VEVENT
DTSTART;VALUE=DATE:20250909
DTEND;VALUE=DATE:20250915
DTSTAMP:20260421T055948
CREATED:20250617T161634Z
LAST-MODIFIED:20250617T161634Z
UID:28475-1757376000-1757894399@www.birdconservancy.org
SUMMARY:Barr Lake Banding Station
DESCRIPTION:Migration is a magical time of year! Join us for a unique opportunity to experience science in action and observe a wildlife biologist banding and collecting important scientific data on live\, migrating birds. The data collected gives us insight to many aspects of avian life history and can be used to inform conservation decisions. \nClick Here to Register! \nScholarships are available! Please apply before registering for your visit. You can apply by clicking here. \nOpen to the public August 23 through October 23\, six days a week (closed Mondays). Weekday programs available from 7:30 – 8:30 a.m.\, and weekend programs are available from 8-9 a.m.\, 9-10 a.m.\, and 10-11 a.m. \nSchedule is weather permitting. Station is closed during precipitation or high winds\, and may close early during very hot weather and open later if very cold. \nAccess to the Banding Station requires traveling ~1/4 of a mile on a gravel trail. Please let us know if we can offer any accommodations or assistance to help you get to the Station. Please note\, the Banding Station is in a new temporary location this year. Instructions will be included in your confirmation email. \nParking is available at the Barr Lake State Park Nature Center Parking lot ($10/vehicle Daily Entrance Fee; Annual State Park Pass; or Keep Colorado Wild Pass entrance fee applies) – 13401 Picadilly Road\, Brighton\, CO 80603. Accessible parking and accessible restrooms are available. \nIf you have any questions\, please contact Sarah Doxon\, Education Manager\, at sarah.doxon@birdconservancy.org or (303) 659-4348 x53
URL:https://www.birdconservancy.org/event/barr-lake-banding-station-4/
LOCATION:Barr Lake Banding Station\, 13401 Picadilly Road\, Brighton\, CO\, 80603
CATEGORIES:Community Program
ORGANIZER;CN="Sarah Doxon%2C Education Manager":MAILTO:sarah.doxon@birdconservancy.org
END:VEVENT
BEGIN:VEVENT
DTSTART;TZID=America/Denver:20250911T160000
DTEND;TZID=America/Denver:20250911T180000
DTSTAMP:20260421T055948
CREATED:20250714T170114Z
LAST-MODIFIED:20251003T214209Z
UID:28563-1757606400-1757613600@www.birdconservancy.org
SUMMARY:Thirsty Bird - Science on Tap
DESCRIPTION:Join us at our Thirsty Bird – Science on Tap programs this year! Guests will learn about what we do as an organization\, our programs in local communities and get a glimpse into our research. We hope you’ll join us throughout 2025 to raise a glass to birds and learn more about Bird Conservancy of the Rockies! \nEach Thirsty Bird starts at 4 p.m. From 4 – 5 p.m. you can mingle with Bird Conservancy staff and supporters\, grab a drink and get a good seat! Starting promptly at 5 p.m. a staff member will begin a presentation focused on their work at Bird Conservancy as well as fun natural history facts about local birds. These presentations are engaging\, thoughtful and you will walk away with new knowledge! Last year our Thirsty Bird events were very well attended. If you are hoping to get a seat at a table we recommend arriving at 4 p.m. Otherwise it may be standing room only. \nOur September Presenter will be Sarah Albright our Grasslands Program Manager! Sarah grew up in California where she completed her B.S. in ecology and evolutionary biology at UC Santa Cruz. Sarah has found a deep passion for stewardship and management by working in a variety of systems including coastal scrublands\, pinyon-juniper woodlands\, shortgrass prairie\, and the alpine. Sarah completed her M.S. in ecology at Colorado State University\, conducting a population assessment of burrowing owls nesting in eastern Colorado. Sarah is passionate about the conscious stewardship of working lands and connecting with the people and communities that call the grasslands home. In her free time\, she can be found doing a variety of outdoor activities. \nWe often think of Colorado as a mountain state\, but where the mountains end\, the plains begin. The aspen and conifers of higher elevations yield to expansive tracts of grass\, flowers\, and shrubs that make up the shortgrass prairie of eastern Colorado. This unique ecosystem is home to a wide array of wildlife including insects\, pronghorn\, badgers\, prairie dogs\, and birds. Come learn about the ecology of the shortgrass prairie\, the threats it faces\, and some of its charismatic inhabitants including the burrowing owl. Discover why burrowing owls are a great example of the interconnected web of life that the shortgrass prairie supports.
URL:https://www.birdconservancy.org/event/thirsty-bird-science-on-tap/
LOCATION:Funkwerks Brewing\, 1900 E. Lincoln Ave\, Fort Collins\, CO\, 80524
CATEGORIES:Presentations & Adult Education
ATTACH;FMTTYPE=image/png:https://www.birdconservancy.org/wp-content/uploads/2025/02/TB-Logo-blue-T.png
ORGANIZER;CN="Taylor Dziedzina%2C Development Associate":MAILTO:taylor.dziedzina@birdconservancy.org
END:VEVENT
BEGIN:VEVENT
DTSTART;TZID=America/Denver:20250911T160000
DTEND;TZID=America/Denver:20250911T180000
DTSTAMP:20260421T055948
CREATED:20250714T170506Z
LAST-MODIFIED:20250714T170506Z
UID:28564-1757606400-1757613600@www.birdconservancy.org
SUMMARY:Thirsty Bird Happy Hour in Larkspur
DESCRIPTION:Join us for our first ever Thirsty Bird event in Larkspur\, CO! \nOur Board Director\, Eileen\, Development Director\, Greg and others will be giving attendees a glimpse into Bird Conservancy of the Rockies work and spending time networking with the community! If you live in the area this is a great opportunity to come and spend time with us! \nThis Thirsty Bird will take place at The Spur of the Moment.
URL:https://www.birdconservancy.org/event/thirsty-bird-happy-hour-in-larkspur/
LOCATION:The Spur of the Moment\, 8885 S Spruce Mountain Rd\, Larkspur\, CO\, 80118
CATEGORIES:Presentations & Adult Education
ORGANIZER;CN="Taylor Dziedzina%2C Development Associate":MAILTO:taylor.dziedzina@birdconservancy.org
END:VEVENT
BEGIN:VEVENT
DTSTART;TZID=America/Denver:20250913T070000
DTEND;TZID=America/Denver:20250913T140000
DTSTAMP:20260421T055948
CREATED:20250620T134547Z
LAST-MODIFIED:20250910T172957Z
UID:28487-1757746800-1757772000@www.birdconservancy.org
SUMMARY:Fall Birding Fest
DESCRIPTION:Bird Conservancy’s Fall Birding Festival at Barr Lake State Park is a must attend for anyone interested in birding\, nature\, or time outside with the family. People of all ages and abilities can see birds up close at the bird banding station\, experience a mindful bird walk\, visit educational booths\, and have fun with family friendly games and activities. We will also have a coffee cart and a food truck this year! \nCheck out the schedule for this years Fall Birding Fest!
URL:https://www.birdconservancy.org/event/fall-birding-fest/
LOCATION:Barr Lake State Park\, 13401 Picadilly Rd.\, Brighton\, CO\, 80603
CATEGORIES:Festivals & Celebrations
ORGANIZER;CN="Becky Heath%2C Assistant Education Director":MAILTO:becky.heath@birdconservancy.org
END:VEVENT
BEGIN:VEVENT
DTSTART;VALUE=DATE:20250916
DTEND;VALUE=DATE:20250921
DTSTAMP:20260421T055948
CREATED:20250730T140732Z
LAST-MODIFIED:20250730T140732Z
UID:28604-1757980800-1758412799@www.birdconservancy.org
SUMMARY:Pineridge Banding Station
DESCRIPTION:During a visit to our banding station you will have a unique opportunity to experience science in action and observe a wildlife biologist banding and collecting important scientific data on live\, migrating birds. This program is provided at no cost to participants due to generous support from donors\, but registration is required for all individuals and groups. Groups are limited to 15 people per one hour time slot. One hour programs are available Tuesday – Friday from 7:30-8:30 a.m. and Saturdays from 7:30-8:30 a.m. and 8:30 – 9:30 a.m. (closed Sundays & Mondays). \n\nClick Here to Register! \n\nLocation: North end of Dixon Reservoir within Pineridge Natural Area Fort Collins\, CO\nParking lot: 3502 CR 42C\, Fort Collins\, CO 80526 \nFall 2025 dates: Open September 2nd through October 11th\, open Tuesday through Saturday. \nCommonly banded birds: Spotted Towhee\, White-crowned Sparrow\, Orange-crowned Warbler\, Wilson’s Warbler (fall)\, House Wren. \n\n\n\n\nPlease contact Education Manager\, Stephanie Wheeler or (970) 482-1707 x 40 for more information. \nSchool programs are available from 9 a.m.- 12 p.m. on Tuesday and Friday\, For more information and to schedule your school program\, please contact us.
URL:https://www.birdconservancy.org/event/pineridge-banding-station-9/
LOCATION:Pineridge Banding Station\, 3502 CR 42C\, Fort Collins\, CO\, 80526
CATEGORIES:Community Program
ORGANIZER;CN="Stephanie Wheeler%2C Education Manager":MAILTO:stephanie.wheeler@birdconservancy.org
END:VEVENT
BEGIN:VEVENT
DTSTART;VALUE=DATE:20250916
DTEND;VALUE=DATE:20250922
DTSTAMP:20260421T055948
CREATED:20250617T161724Z
LAST-MODIFIED:20250617T161724Z
UID:28476-1757980800-1758499199@www.birdconservancy.org
SUMMARY:Barr Lake Banding Station
DESCRIPTION:Migration is a magical time of year! Join us for a unique opportunity to experience science in action and observe a wildlife biologist banding and collecting important scientific data on live\, migrating birds. The data collected gives us insight to many aspects of avian life history and can be used to inform conservation decisions. \nClick Here to Register! \nScholarships are available! Please apply before registering for your visit. You can apply by clicking here. \nOpen to the public August 23 through October 23\, six days a week (closed Mondays). Weekday programs available from 7:30 – 8:30 a.m.\, and weekend programs are available from 8-9 a.m.\, 9-10 a.m.\, and 10-11 a.m. \nSchedule is weather permitting. Station is closed during precipitation or high winds\, and may close early during very hot weather and open later if very cold. \nAccess to the Banding Station requires traveling ~1/4 of a mile on a gravel trail. Please let us know if we can offer any accommodations or assistance to help you get to the Station. Please note\, the Banding Station is in a new temporary location this year. Instructions will be included in your confirmation email. \nParking is available at the Barr Lake State Park Nature Center Parking lot ($10/vehicle Daily Entrance Fee; Annual State Park Pass; or Keep Colorado Wild Pass entrance fee applies) – 13401 Picadilly Road\, Brighton\, CO 80603. Accessible parking and accessible restrooms are available. \nIf you have any questions\, please contact Sarah Doxon\, Education Manager\, at sarah.doxon@birdconservancy.org or (303) 659-4348 x53
URL:https://www.birdconservancy.org/event/barr-lake-banding-station-5/
LOCATION:Barr Lake Banding Station\, 13401 Picadilly Road\, Brighton\, CO\, 80603
CATEGORIES:Community Program
ORGANIZER;CN="Sarah Doxon%2C Education Manager":MAILTO:sarah.doxon@birdconservancy.org
END:VEVENT
BEGIN:VEVENT
DTSTART;TZID=America/Denver:20250917T180000
DTEND;TZID=America/Denver:20250917T193000
DTSTAMP:20260421T055948
CREATED:20250814T153214Z
LAST-MODIFIED:20250814T153214Z
UID:28633-1758132000-1758137400@www.birdconservancy.org
SUMMARY:Evening Bird Walk
DESCRIPTION:Whether you are new to birds & birding or an avid birder\, we invite you to join Bird Conservancy of the Rockies educators for a relaxing summer evening walk through Riverside Park\, as we look for birds along the North Platte River and within the YMCA Trails West Camp. This is the perfect opportunity to connect with nature\, enjoy the outdoors\, and meet fellow bird and nature lovers. Come for a little while or stay as long as you’d like! \nBinoculars and field guides will be available to borrow. Please wear comfortable walking shoes and be prepared to be outside for up to the duration of the program. Registration is limited to 15 people. \nClick here to register! \nEvening Birding Walk will be gathering at YMCA Trails West Camp\, 1918 S Beltline Hwy W\, Scottsbluff\, NE 69363. For more information 308-633-1013 Thanks to generous support from individual donations\, our programs are offered at NO COST to you! Want to help keep our programs at no cost? Consider donating to Bird Conservancy’s – Nebraska Education Program. \nAll are welcome. Our community of practice is to be an organization that empowers people of all backgrounds\, beliefs\, colors\, and creeds to join in\, benefit from\, and contribute to our mission. We strive to ensure everyone feels safe and included at our programs and events\, and can find a place for themselves in nature.
URL:https://www.birdconservancy.org/event/evening-bird-walk-4/
LOCATION:YMCA Trails West Camp\, 1918 Beltline Hwy W.\, Scottsbluff\, NE\, 69363
CATEGORIES:Community Program
ORGANIZER;CN="Delanie Bruce%2C Education Manager":MAILTO:delanie.bruce@birdconservancy.org
END:VEVENT
BEGIN:VEVENT
DTSTART;VALUE=DATE:20250923
DTEND;VALUE=DATE:20250928
DTSTAMP:20260421T055948
CREATED:20250730T140849Z
LAST-MODIFIED:20250730T140849Z
UID:28606-1758585600-1759017599@www.birdconservancy.org
SUMMARY:Pineridge Banding Station
DESCRIPTION:During a visit to our banding station you will have a unique opportunity to experience science in action and observe a wildlife biologist banding and collecting important scientific data on live\, migrating birds. This program is provided at no cost to participants due to generous support from donors\, but registration is required for all individuals and groups. Groups are limited to 15 people per one hour time slot. One hour programs are available Tuesday – Friday from 7:30-8:30 a.m. and Saturdays from 7:30-8:30 a.m. and 8:30 – 9:30 a.m. (closed Sundays & Mondays). \n\nClick Here to Register! \n\nLocation: North end of Dixon Reservoir within Pineridge Natural Area Fort Collins\, CO\nParking lot: 3502 CR 42C\, Fort Collins\, CO 80526 \nFall 2025 dates: Open September 2nd through October 11th\, open Tuesday through Saturday. \nCommonly banded birds: Spotted Towhee\, White-crowned Sparrow\, Orange-crowned Warbler\, Wilson’s Warbler (fall)\, House Wren. \n\n\n\n\nPlease contact Education Manager\, Stephanie Wheeler or (970) 482-1707 x 40 for more information. \nSchool programs are available from 9 a.m.- 12 p.m. on Tuesday and Friday\, For more information and to schedule your school program\, please contact us.
URL:https://www.birdconservancy.org/event/pineridge-banding-station-10/
LOCATION:Pineridge Banding Station\, 3502 CR 42C\, Fort Collins\, CO\, 80526
CATEGORIES:Community Program
ORGANIZER;CN="Stephanie Wheeler%2C Education Manager":MAILTO:stephanie.wheeler@birdconservancy.org
END:VEVENT
BEGIN:VEVENT
DTSTART;VALUE=DATE:20250923
DTEND;VALUE=DATE:20250929
DTSTAMP:20260421T055948
CREATED:20250617T161821Z
LAST-MODIFIED:20250617T161821Z
UID:28477-1758585600-1759103999@www.birdconservancy.org
SUMMARY:Barr Lake Banding Station
DESCRIPTION:Migration is a magical time of year! Join us for a unique opportunity to experience science in action and observe a wildlife biologist banding and collecting important scientific data on live\, migrating birds. The data collected gives us insight to many aspects of avian life history and can be used to inform conservation decisions. \nClick Here to Register! \nScholarships are available! Please apply before registering for your visit. You can apply by clicking here. \nOpen to the public August 23 through October 23\, six days a week (closed Mondays). Weekday programs available from 7:30 – 8:30 a.m.\, and weekend programs are available from 8-9 a.m.\, 9-10 a.m.\, and 10-11 a.m. \nSchedule is weather permitting. Station is closed during precipitation or high winds\, and may close early during very hot weather and open later if very cold. \nAccess to the Banding Station requires traveling ~1/4 of a mile on a gravel trail. Please let us know if we can offer any accommodations or assistance to help you get to the Station. Please note\, the Banding Station is in a new temporary location this year. Instructions will be included in your confirmation email. \nParking is available at the Barr Lake State Park Nature Center Parking lot ($10/vehicle Daily Entrance Fee; Annual State Park Pass; or Keep Colorado Wild Pass entrance fee applies) – 13401 Picadilly Road\, Brighton\, CO 80603. Accessible parking and accessible restrooms are available. \nIf you have any questions\, please contact Sarah Doxon\, Education Manager\, at sarah.doxon@birdconservancy.org or (303) 659-4348 x53
URL:https://www.birdconservancy.org/event/barr-lake-banding-station-6/
LOCATION:Barr Lake Banding Station\, 13401 Picadilly Road\, Brighton\, CO\, 80603
CATEGORIES:Community Program
ORGANIZER;CN="Sarah Doxon%2C Education Manager":MAILTO:sarah.doxon@birdconservancy.org
END:VEVENT
BEGIN:VEVENT
DTSTART;VALUE=DATE:20250930
DTEND;VALUE=DATE:20251005
DTSTAMP:20260421T055948
CREATED:20250730T140953Z
LAST-MODIFIED:20250730T140953Z
UID:28607-1759190400-1759622399@www.birdconservancy.org
SUMMARY:Pineridge Banding Station
DESCRIPTION:During a visit to our banding station you will have a unique opportunity to experience science in action and observe a wildlife biologist banding and collecting important scientific data on live\, migrating birds. This program is provided at no cost to participants due to generous support from donors\, but registration is required for all individuals and groups. Groups are limited to 15 people per one hour time slot. One hour programs are available Tuesday – Friday from 7:30-8:30 a.m. and Saturdays from 7:30-8:30 a.m. and 8:30 – 9:30 a.m. (closed Sundays & Mondays). \n\nClick Here to Register! \n\nLocation: North end of Dixon Reservoir within Pineridge Natural Area Fort Collins\, CO\nParking lot: 3502 CR 42C\, Fort Collins\, CO 80526 \nFall 2025 dates: Open September 2nd through October 11th\, open Tuesday through Saturday. \nCommonly banded birds: Spotted Towhee\, White-crowned Sparrow\, Orange-crowned Warbler\, Wilson’s Warbler (fall)\, House Wren. \n\n\n\n\nPlease contact Education Manager\, Stephanie Wheeler or (970) 482-1707 x 40 for more information. \nSchool programs are available from 9 a.m.- 12 p.m. on Tuesday and Friday\, For more information and to schedule your school program\, please contact us.
URL:https://www.birdconservancy.org/event/pineridge-banding-station-11/
LOCATION:Pineridge Banding Station\, 3502 CR 42C\, Fort Collins\, CO\, 80526
CATEGORIES:Community Program
ORGANIZER;CN="Stephanie Wheeler%2C Education Manager":MAILTO:stephanie.wheeler@birdconservancy.org
END:VEVENT
BEGIN:VEVENT
DTSTART;VALUE=DATE:20250930
DTEND;VALUE=DATE:20251006
DTSTAMP:20260421T055948
CREATED:20250617T161913Z
LAST-MODIFIED:20250617T161913Z
UID:28478-1759190400-1759708799@www.birdconservancy.org
SUMMARY:Barr Lake Banding Station
DESCRIPTION:Migration is a magical time of year! Join us for a unique opportunity to experience science in action and observe a wildlife biologist banding and collecting important scientific data on live\, migrating birds. The data collected gives us insight to many aspects of avian life history and can be used to inform conservation decisions. \nClick Here to Register! \nScholarships are available! Please apply before registering for your visit. You can apply by clicking here. \nOpen to the public August 23 through October 23\, six days a week (closed Mondays). Weekday programs available from 7:30 – 8:30 a.m.\, and weekend programs are available from 8-9 a.m.\, 9-10 a.m.\, and 10-11 a.m. \nSchedule is weather permitting. Station is closed during precipitation or high winds\, and may close early during very hot weather and open later if very cold. \nAccess to the Banding Station requires traveling ~1/4 of a mile on a gravel trail. Please let us know if we can offer any accommodations or assistance to help you get to the Station. Please note\, the Banding Station is in a new temporary location this year. Instructions will be included in your confirmation email. \nParking is available at the Barr Lake State Park Nature Center Parking lot ($10/vehicle Daily Entrance Fee; Annual State Park Pass; or Keep Colorado Wild Pass entrance fee applies) – 13401 Picadilly Road\, Brighton\, CO 80603. Accessible parking and accessible restrooms are available. \nIf you have any questions\, please contact Sarah Doxon\, Education Manager\, at sarah.doxon@birdconservancy.org or (303) 659-4348 x53
URL:https://www.birdconservancy.org/event/barr-lake-banding-station-7/
LOCATION:Barr Lake Banding Station\, 13401 Picadilly Road\, Brighton\, CO\, 80603
CATEGORIES:Community Program
ORGANIZER;CN="Sarah Doxon%2C Education Manager":MAILTO:sarah.doxon@birdconservancy.org
END:VEVENT
END:VCALENDAR