BEGIN:VCALENDAR
VERSION:2.0
PRODID:-//Bird Conservancy of the Rockies - ECPv6.15.20//NONSGML v1.0//EN
CALSCALE:GREGORIAN
METHOD:PUBLISH
X-WR-CALNAME:Bird Conservancy of the Rockies
X-ORIGINAL-URL:https://www.birdconservancy.org
X-WR-CALDESC:Events for Bird Conservancy of the Rockies
REFRESH-INTERVAL;VALUE=DURATION:PT1H
X-Robots-Tag:noindex
X-PUBLISHED-TTL:PT1H
BEGIN:VTIMEZONE
TZID:America/Denver
BEGIN:DAYLIGHT
TZOFFSETFROM:-0700
TZOFFSETTO:-0600
TZNAME:MDT
DTSTART:20240310T090000
END:DAYLIGHT
BEGIN:STANDARD
TZOFFSETFROM:-0600
TZOFFSETTO:-0700
TZNAME:MST
DTSTART:20241103T080000
END:STANDARD
BEGIN:DAYLIGHT
TZOFFSETFROM:-0700
TZOFFSETTO:-0600
TZNAME:MDT
DTSTART:20250309T090000
END:DAYLIGHT
BEGIN:STANDARD
TZOFFSETFROM:-0600
TZOFFSETTO:-0700
TZNAME:MST
DTSTART:20251102T080000
END:STANDARD
BEGIN:DAYLIGHT
TZOFFSETFROM:-0700
TZOFFSETTO:-0600
TZNAME:MDT
DTSTART:20260308T090000
END:DAYLIGHT
BEGIN:STANDARD
TZOFFSETFROM:-0600
TZOFFSETTO:-0700
TZNAME:MST
DTSTART:20261101T080000
END:STANDARD
END:VTIMEZONE
BEGIN:VEVENT
DTSTART;TZID=America/Denver:20250128T191500
DTEND;TZID=America/Denver:20250128T204500
DTSTAMP:20260420T042812
CREATED:20250116T012344Z
LAST-MODIFIED:20250721T210829Z
UID:27419-1738091700-1738097100@www.birdconservancy.org
SUMMARY:Why We "Band" Birds with Boulder Audubon
DESCRIPTION:Have you ever wondered why scientists band birds and how this fascinating practice helps us understand their incredible journeys? Join Boulder Audubon for “Why We ‘Band’ Birds” with our Bander & Volunteer Coordinator\, Meredith McBurney. Meredith will present an engaging talk that will uncover the science and stories behind bird banding. \nDate: Tuesday\, January 28\, 2025 \nTime: 7:15 PM – 8:45 PM \nLocation (Hybrid): Unitarian Universalist Church of Boulder (5001 Pennsylvania Ave\, Boulder\, CO 80303) Or Online info at (https://www.boulderaudubon.org/all-events) \nLearn how data collected at bird banding stations has unlocked critical insights into: \n\nMigratory routes and timings\nSpecies’ range limits\nLifespan and survival rates\nHow these characteristics are evolving over time\n\nWhether you’re a seasoned birdwatcher\, a curious nature enthusiast\, or simply looking for inspiration\, this event is perfect for you. \nSpots are limited\, so don’t miss your chance to connect with fellow bird lovers and expand your understanding of these incredible creatures!
URL:https://www.birdconservancy.org/event/why-we-band-birds-with-boulder-audubon/
LOCATION:NE
CATEGORIES:Presentations & Adult Education
ATTACH;FMTTYPE=image/jpeg:https://www.birdconservancy.org/wp-content/uploads/2025/02/7th-grade-student-assisting-Meredith-McBurney-and-Volunteer-Fran-Hass-with-the-important-duty-as-data-recorder-by-Peggy-Watson.jpg
END:VEVENT
END:VCALENDAR