BEGIN:VCALENDAR
VERSION:2.0
PRODID:-//Bird Conservancy of the Rockies - ECPv6.15.20//NONSGML v1.0//EN
CALSCALE:GREGORIAN
METHOD:PUBLISH
X-WR-CALNAME:Bird Conservancy of the Rockies
X-ORIGINAL-URL:https://www.birdconservancy.org
X-WR-CALDESC:Events for Bird Conservancy of the Rockies
REFRESH-INTERVAL;VALUE=DURATION:PT1H
X-Robots-Tag:noindex
X-PUBLISHED-TTL:PT1H
BEGIN:VTIMEZONE
TZID:America/Denver
BEGIN:DAYLIGHT
TZOFFSETFROM:-0700
TZOFFSETTO:-0600
TZNAME:MDT
DTSTART:20240310T090000
END:DAYLIGHT
BEGIN:STANDARD
TZOFFSETFROM:-0600
TZOFFSETTO:-0700
TZNAME:MST
DTSTART:20241103T080000
END:STANDARD
BEGIN:DAYLIGHT
TZOFFSETFROM:-0700
TZOFFSETTO:-0600
TZNAME:MDT
DTSTART:20250309T090000
END:DAYLIGHT
BEGIN:STANDARD
TZOFFSETFROM:-0600
TZOFFSETTO:-0700
TZNAME:MST
DTSTART:20251102T080000
END:STANDARD
BEGIN:DAYLIGHT
TZOFFSETFROM:-0700
TZOFFSETTO:-0600
TZNAME:MDT
DTSTART:20260308T090000
END:DAYLIGHT
BEGIN:STANDARD
TZOFFSETFROM:-0600
TZOFFSETTO:-0700
TZNAME:MST
DTSTART:20261101T080000
END:STANDARD
END:VTIMEZONE
BEGIN:VEVENT
DTSTART;TZID=America/Denver:20251211T090000
DTEND;TZID=America/Denver:20251211T120000
DTSTAMP:20260423T142249
CREATED:20251106T184612Z
LAST-MODIFIED:20251111T165232Z
UID:28833-1765443600-1765454400@www.birdconservancy.org
SUMMARY:Family Christmas Bird Count
DESCRIPTION:Join Bird Conservancy of the Rockies for a monthly educational Family & Homeschool program. Each month we’ll focus on a different subject or area of interest to share with your family. Participants should expect each activity to largely take place outside and a parent or guardian should plan to stay with their child(ren) through the duration of the program. \nDecember’s theme is ‘Family Christmas Bird Count’. Did you know that every winter since 1900\, scientists and birders alike have gathered together in an effort to count birds? We invite your family to join us for a morning of community science\, observing the birds around Barr Lake and discussing the impact we can have on understanding bird populations. \nScholarships are available. Please complete this form BEFORE you register and wait for a reply from a Bird Conservancy staff member. \nClick here to register! \nThis program takes place at the Barr Lake State Park Nature Center located at 13401 Picadilly Rd.\, Brighton\, CO. Please note\, a $10 Daily or Annual Colorado State Parks Pass is required for entry into the park at all times.
URL:https://www.birdconservancy.org/event/family-christmas-bird-count/
LOCATION:Barr Lake State Park\, 13401 Picadilly Rd.\, Brighton\, CO\, 80603
CATEGORIES:Family/Homeschool Programs
ORGANIZER;CN="Becky Heath%2C Assistant Education Director":MAILTO:becky.heath@birdconservancy.org
END:VEVENT
BEGIN:VEVENT
DTSTART;TZID=America/Denver:20251108T100000
DTEND;TZID=America/Denver:20251108T113000
DTSTAMP:20260423T142249
CREATED:20251103T160159Z
LAST-MODIFIED:20251103T160159Z
UID:28798-1762596000-1762601400@www.birdconservancy.org
SUMMARY:Family Nature Club
DESCRIPTION:Family Nature Club is designed for children and their grown-ups as an opportunity to spend time in nature\, regardless of the season\, to play interactive & engaging games together\, and to learn about Western Nebraska’s unique wildlife and landscape. Every month will feature a new nature topic. \nWe hope to explore the natural wonders of western Nebraska with your family every month this year! Each family group will receive an Exploration Kit to use during the series to explore the natural world around them at home. \nClick here to register! \nFamily Nature Club will be outside the entire time unless otherwise noted. Please dress comfortably for the weather and bring snacks/water as needed. \n**November’s Family Nature Club is now meeting at the Lied Scottsbluff Public Library\, at 1809 3rd Avenue\, Scottsbluff\, NE 69361. For more information 308-633-1013. \nThanks to generous support from individual donations\, our programs are offered at NO COST to you! Want to help keep our programs at no cost? Consider donating to Bird Conservancy’s – Nebraska Education Program HERE.
URL:https://www.birdconservancy.org/event/family-nature-club-3/
LOCATION:Lied Scottsbluff Public Library\, 1809 3rd Avenue\, Scottsbluff\, NE\, 69361
CATEGORIES:Family/Homeschool Programs
ORGANIZER;CN="Delanie Bruce%2C Education Manager":MAILTO:delanie.bruce@birdconservancy.org
END:VEVENT
BEGIN:VEVENT
DTSTART;TZID=America/Denver:20250828T084500
DTEND;TZID=America/Denver:20250828T110000
DTSTAMP:20260423T142249
CREATED:20250721T183900Z
LAST-MODIFIED:20251003T224501Z
UID:28584-1756370700-1756378800@www.birdconservancy.org
SUMMARY:Bird Banding - Family & Homeschool Program
DESCRIPTION:Join Bird Conservancy of the Rockies for a monthly educational Family & Homeschool program. Each month we’ll focus on a different subject or area of interest to share with your family. Participants should expect each activity to largely take place outside and a parent or guardian should plan to stay with their child(ren) through the duration of the program. \nAugust’s theme is ‘Bird Banding’. There’s no better time and place to learn about the science of studying bird migratory patterns than joining in on a bird banding station visit! On either of these dates in August\, join us as we open the nets for the Fall 2025 season aiming to capture and band different migratory songbirds. We’ll visit our station located at Barr Lake\, learning from Bird Conservancy volunteers and scientists about why we band birds as well as what we can learn from this project! \nClick here to register! \nChild (1-17): $8; Adult (18+): $1 \nAccess Information: Handicap parking is available at the meeting location along with accessible restrooms. Some of this program may include slow-paced walking along flat gravel or dirt paths. Accessible equipment will be available for use during this program. \nScholarships are available. Please complete this form: birdconservancy.org/scholarship-familyprograms BEFORE you register and wait for a reply from a Bird Conservancy staff member. \nThis program takes place at the Barr Lake State Park Nature Center located at 13401 Picadilly Rd.\, Brighton\, CO. Please note\, a $10 Daily or Annual Colorado State Parks Pass is required for entry into the park at all times.
URL:https://www.birdconservancy.org/event/bird-banding-family-homeschool-program-2/
LOCATION:Barr Lake Banding Station\, 13401 Picadilly Road\, Brighton\, CO\, 80603
CATEGORIES:Family/Homeschool Programs
ORGANIZER;CN="Becky Heath%2C Assistant Education Director":MAILTO:becky.heath@birdconservancy.org
END:VEVENT
BEGIN:VEVENT
DTSTART;TZID=America/Denver:20250827T084500
DTEND;TZID=America/Denver:20250827T110000
DTSTAMP:20260423T142249
CREATED:20250721T183747Z
LAST-MODIFIED:20251003T224507Z
UID:28583-1756284300-1756292400@www.birdconservancy.org
SUMMARY:Bird Banding - Family & Homeschool Program
DESCRIPTION:Join Bird Conservancy of the Rockies for a monthly educational Family & Homeschool program. Each month we’ll focus on a different subject or area of interest to share with your family. Participants should expect each activity to largely take place outside and a parent or guardian should plan to stay with their child(ren) through the duration of the program. \nAugust’s theme is ‘Bird Banding’. There’s no better time and place to learn about the science of studying bird migratory patterns than joining in on a bird banding station visit! On either of these dates in August\, join us as we open the nets for the Fall 2025 season aiming to capture and band different migratory songbirds. We’ll visit our station located at Barr Lake\, learning from Bird Conservancy volunteers and scientists about why we band birds as well as what we can learn from this project! \nClick here to register! \nChild (1-17): $8; Adult (18+): $1 \nAccess Information: Handicap parking is available at the meeting location along with accessible restrooms. Some of this program may include slow-paced walking along flat gravel or dirt paths. Accessible equipment will be available for use during this program. \nScholarships are available. Please complete this form: birdconservancy.org/scholarship-familyprograms BEFORE you register and wait for a reply from a Bird Conservancy staff member. \nThis program takes place at the Barr Lake State Park Nature Center located at 13401 Picadilly Rd.\, Brighton\, CO. Please note\, a $10 Daily or Annual Colorado State Parks Pass is required for entry into the park at all times.
URL:https://www.birdconservancy.org/event/bird-banding-family-homeschool-program/
LOCATION:Barr Lake Banding Station\, 13401 Picadilly Road\, Brighton\, CO\, 80603
CATEGORIES:Family/Homeschool Programs
ORGANIZER;CN="Becky Heath%2C Assistant Education Director":MAILTO:becky.heath@birdconservancy.org
END:VEVENT
BEGIN:VEVENT
DTSTART;TZID=America/Denver:20250517T100000
DTEND;TZID=America/Denver:20250517T113000
DTSTAMP:20260423T142249
CREATED:20250310T174943Z
LAST-MODIFIED:20250721T204944Z
UID:28180-1747476000-1747481400@www.birdconservancy.org
SUMMARY:Family Nature Club - Fun with Our Feathered Friends
DESCRIPTION:It’s a bird! It’s a plane! No\, it’s a bird! This months Family Nature Club we will learn all about birds and investigate what makes our feathered friends special. We’ll discuss what makes a bird a bird\, examine bird biofacts\, and see how well our skills match up with some of the world’s finest avian athletes during the “Bird Olympics”. \nFamily Nature Club is intended for children and their grownups. Each family group will receive an Exploration Kit to use during the series to explore the natural world around them at home. Family Nature Club will be outside the entire time unless otherwise noted. Please dress comfortably for the weather and bring snacks/water as needed. \nClick Here to Register! \nFamily Nature Club will be gathering at the Scotts Bluff National Monument\, 190276 Old Oregon Trail\, Gering\, NE 69341 . \nFor more information contact Noelle Grunwald: noelle.grunwald@birdconservancy.org or call 308-633-1013. \nThanks to generous support from individual donations\, our programs are offered at NO COST to you! Want to help keep our programs at no cost? Consider donating to Bird Conservancy’s – Nebraska Education Program HERE. \nAll are welcome. Our community of practice is to be an organization that empowers people of all backgrounds\, beliefs\, colors\, and creeds to join in\, benefit from\, and contribute to our mission. We strive to ensure everyone feels safe and included at our programs and events\, and can find a place for themselves in nature.
URL:https://www.birdconservancy.org/event/family-nature-club-may-2025/
LOCATION:Scotts Bluff National Monument\, 190276 Old Oregon Trail\, Gering\, NE\, 69341
CATEGORIES:Family/Homeschool Programs
ORGANIZER;CN="Noelle Grunwald%2C Environmental Educator":MAILTO:noelle.grunwald@birdconservancy.org
END:VEVENT
BEGIN:VEVENT
DTSTART;TZID=America/Denver:20250426T100000
DTEND;TZID=America/Denver:20250426T113000
DTSTAMP:20260423T142249
CREATED:20250401T174335Z
LAST-MODIFIED:20250721T205016Z
UID:28269-1745661600-1745667000@www.birdconservancy.org
SUMMARY:Family Nature Club: Nebraska's Animal All-Stars
DESCRIPTION:This is a special session to celebrate National Parks week\, be sure to join us for some fun celebrating a few of western Nebraska’s amazing animals! Registration is NOT required for this session of Family Nature Club. \nFamily Nature Club is a monthly program that encourages families to explore the natural world together. Each month features a different interactive program with outdoor games and activities\, perfect for all ages! Families receive an Exploration Kit to investigate nature\, encouraging you to spend time outdoors together. Each session is held 10 – 11:30 a.m. Family Nature Club is intended for children and their grownups. Each family group will receive an Exploration Kit to use during the series to explore the natural world around them at home. \nFamily Nature Club will be outside the entire time unless otherwise noted. Please dress comfortably for the weather and bring snacks/water as needed. Family Nature Club will be gathering at the Scotts Bluff National Monument\, 190276 Old Oregon Trail\, Gering\, NE 69341. For more information call 308-633-1013. \nThanks to generous support from individual donations\, our programs are offered at NO COST to you! Help keep our programs at no cost by donating to Bird Conservancy’s – Nebraska Education Program: Donate here! \nAll are welcome. Our community of practice is to be an organization that empowers people of all backgrounds\, beliefs\, colors\, and creeds to join in\, benefit from\, and contribute to our mission. We strive to ensure everyone feels safe and included at our programs and events\, and can find a place for themselves in nature.
URL:https://www.birdconservancy.org/event/family-nature-club-nebraskas-animal-all-stars/
LOCATION:Scotts Bluff National Monument\, 190276 Old Oregon Trail\, Gering\, NE\, 69341
CATEGORIES:Family/Homeschool Programs
ORGANIZER;CN="Delanie Bruce%2C Education Manager":MAILTO:delanie.bruce@birdconservancy.org
END:VEVENT
BEGIN:VEVENT
DTSTART;TZID=America/Denver:20250329T100000
DTEND;TZID=America/Denver:20250329T113000
DTSTAMP:20260423T142249
CREATED:20250310T174620Z
LAST-MODIFIED:20250721T204901Z
UID:28176-1743242400-1743247800@www.birdconservancy.org
SUMMARY:Family Nature Club - Tracks\, Scats\, & Signs\, Oh My!
DESCRIPTION:Nebraska’s wildlife is all around us\, but sometimes it’s a mystery to find! During this months Family Nature Club\, become Nature Detectives\, uncovering hidden clues in the natural world. They’ll learn how to investigate animal Tracks\, Scats\, and Signs\, Oh My! \nFamily Nature Club is intended for children and their grownups. Each family group will receive an Exploration Kit to use during the series to explore the natural world around them at home. Family Nature Club will be outside the entire time unless otherwise noted. Please dress comfortably for the weather and bring snacks/water as needed. \nClick Here to Register! \nFamily Nature Club will be gathering at the Scotts Bluff National Monument\, 190276 Old Oregon Trail\, Gering\, NE 69341 . \nFor more information contact Noelle Grunwald: noelle.grunwald@birdconservancy.org or call 308-633-1013. \nThanks to generous support from individual donations\, our programs are offered at NO COST to you! Want to help keep our programs at no cost? Consider donating to Bird Conservancy’s – Nebraska Education Program HERE. \nAll are welcome. Our community of practice is to be an organization that empowers people of all backgrounds\, beliefs\, colors\, and creeds to join in\, benefit from\, and contribute to our mission. We strive to ensure everyone feels safe and included at our programs and events\, and can find a place for themselves in nature.
URL:https://www.birdconservancy.org/event/family-nature-club-march-2025/
LOCATION:Scotts Bluff National Monument\, 190276 Old Oregon Trail\, Gering\, NE\, 69341
CATEGORIES:Family/Homeschool Programs
ORGANIZER;CN="Noelle Grunwald%2C Environmental Educator":MAILTO:noelle.grunwald@birdconservancy.org
END:VEVENT
END:VCALENDAR