BEGIN:VCALENDAR
VERSION:2.0
PRODID:-//Bird Conservancy of the Rockies - ECPv6.15.20//NONSGML v1.0//EN
CALSCALE:GREGORIAN
METHOD:PUBLISH
X-WR-CALNAME:Bird Conservancy of the Rockies
X-ORIGINAL-URL:https://www.birdconservancy.org
X-WR-CALDESC:Events for Bird Conservancy of the Rockies
REFRESH-INTERVAL;VALUE=DURATION:PT1H
X-Robots-Tag:noindex
X-PUBLISHED-TTL:PT1H
BEGIN:VTIMEZONE
TZID:America/Denver
BEGIN:DAYLIGHT
TZOFFSETFROM:-0700
TZOFFSETTO:-0600
TZNAME:MDT
DTSTART:20250309T090000
END:DAYLIGHT
BEGIN:STANDARD
TZOFFSETFROM:-0600
TZOFFSETTO:-0700
TZNAME:MST
DTSTART:20251102T080000
END:STANDARD
BEGIN:DAYLIGHT
TZOFFSETFROM:-0700
TZOFFSETTO:-0600
TZNAME:MDT
DTSTART:20260308T090000
END:DAYLIGHT
BEGIN:STANDARD
TZOFFSETFROM:-0600
TZOFFSETTO:-0700
TZNAME:MST
DTSTART:20261101T080000
END:STANDARD
BEGIN:DAYLIGHT
TZOFFSETFROM:-0700
TZOFFSETTO:-0600
TZNAME:MDT
DTSTART:20270314T090000
END:DAYLIGHT
BEGIN:STANDARD
TZOFFSETFROM:-0600
TZOFFSETTO:-0700
TZNAME:MST
DTSTART:20271107T080000
END:STANDARD
END:VTIMEZONE
BEGIN:VEVENT
DTSTART;TZID=America/Denver:20260418T080000
DTEND;TZID=America/Denver:20260418T103000
DTSTAMP:20260422T054634
CREATED:20260407T140839Z
LAST-MODIFIED:20260407T140839Z
UID:29183-1776499200-1776508200@www.birdconservancy.org
SUMMARY:Birding 101 Class
DESCRIPTION:Discover the fascinating world of birding! This beginner-friendly class will introduce you to the essential skills and tools needed to identify birds and appreciate their natural beauty. \nThe first half of the class will start with an engaging introduction to birding basics. Learn how to use key clues like body and bill shapes\, posture\, behaviors\, habitat\, field marks\, and songs to identify birds. We’ll also explore tools such as field guides and birding apps for identification and reporting sightings. Then we will head outside for a bird walk to take your new skills into the field! Enjoy a guided walk through the gardens and along the scenic Spring Creek Trail\, practicing bird identification in a natural setting. \nClick here to register!
URL:https://www.birdconservancy.org/event/birding-101-class/
LOCATION:Gardens on Spring Creek\, 2145 Center Ave.\, Fort Collins\, CO\, 80526
CATEGORIES:Presentations & Adult Education
ORGANIZER;CN="Stephanie Wheeler%2C Education Manager":MAILTO:stephanie.wheeler@birdconservancy.org
END:VEVENT
END:VCALENDAR