BEGIN:VCALENDAR
VERSION:2.0
PRODID:-//Bird Conservancy of the Rockies - ECPv6.15.20//NONSGML v1.0//EN
CALSCALE:GREGORIAN
METHOD:PUBLISH
X-WR-CALNAME:Bird Conservancy of the Rockies
X-ORIGINAL-URL:https://www.birdconservancy.org
X-WR-CALDESC:Events for Bird Conservancy of the Rockies
REFRESH-INTERVAL;VALUE=DURATION:PT1H
X-Robots-Tag:noindex
X-PUBLISHED-TTL:PT1H
BEGIN:VTIMEZONE
TZID:America/Denver
BEGIN:DAYLIGHT
TZOFFSETFROM:-0700
TZOFFSETTO:-0600
TZNAME:MDT
DTSTART:20250309T090000
END:DAYLIGHT
BEGIN:STANDARD
TZOFFSETFROM:-0600
TZOFFSETTO:-0700
TZNAME:MST
DTSTART:20251102T080000
END:STANDARD
BEGIN:DAYLIGHT
TZOFFSETFROM:-0700
TZOFFSETTO:-0600
TZNAME:MDT
DTSTART:20260308T090000
END:DAYLIGHT
BEGIN:STANDARD
TZOFFSETFROM:-0600
TZOFFSETTO:-0700
TZNAME:MST
DTSTART:20261101T080000
END:STANDARD
BEGIN:DAYLIGHT
TZOFFSETFROM:-0700
TZOFFSETTO:-0600
TZNAME:MDT
DTSTART:20270314T090000
END:DAYLIGHT
BEGIN:STANDARD
TZOFFSETFROM:-0600
TZOFFSETTO:-0700
TZNAME:MST
DTSTART:20271107T080000
END:STANDARD
END:VTIMEZONE
BEGIN:VEVENT
DTSTART;TZID=America/Denver:20260214T100000
DTEND;TZID=America/Denver:20260214T130000
DTSTAMP:20260424T041830
CREATED:20260130T141808Z
LAST-MODIFIED:20260130T142442Z
UID:28985-1771063200-1771074000@www.birdconservancy.org
SUMMARY:Great Backyard Bird Count
DESCRIPTION:The Great Backyard Bird Count is an international event that encourages everyone from beginner to expert birders to participate. By spending at least 15 minutes counting birds in your yard\, neighborhood\, or community\, you can contribute to an expansive community science project that helps scientists better understand bird populations and communities all around the world. The Great Backyard Bird Count takes place February 13-16. Any checklists for 15 or more minutes can contribute to this amazing project! \nFort Collins Museum of Discovery\, Bird Conservancy of the Rockies\, Northern Colorado Bird Alliance\, American Bird Conservancy\, and Rocky Mountain Raptor Program will be hosting a free event at which you can learn all about birds and how to help birds in our community. Join us on bird walks and bird sits to participate in the count. Or enjoy some Mindful Birding to be resent in nature and take in all of the sounds and sights in a more meditative way. There will be activities for participants of all ages.
URL:https://www.birdconservancy.org/event/great-backyard-bird-count/
LOCATION:Fort Collins Museum of Discovery\, 408 Mason Court\, Fort Collins\, CO\, 80524
CATEGORIES:Community Program
ORGANIZER;CN="Stephanie Wheeler%2C Education Manager":MAILTO:stephanie.wheeler@birdconservancy.org
END:VEVENT
END:VCALENDAR