BEGIN:VCALENDAR
VERSION:2.0
PRODID:-//Bird Conservancy of the Rockies - ECPv6.15.20//NONSGML v1.0//EN
CALSCALE:GREGORIAN
METHOD:PUBLISH
X-WR-CALNAME:Bird Conservancy of the Rockies
X-ORIGINAL-URL:https://www.birdconservancy.org
X-WR-CALDESC:Events for Bird Conservancy of the Rockies
REFRESH-INTERVAL;VALUE=DURATION:PT1H
X-Robots-Tag:noindex
X-PUBLISHED-TTL:PT1H
BEGIN:VTIMEZONE
TZID:America/Denver
BEGIN:DAYLIGHT
TZOFFSETFROM:-0700
TZOFFSETTO:-0600
TZNAME:MDT
DTSTART:20240310T090000
END:DAYLIGHT
BEGIN:STANDARD
TZOFFSETFROM:-0600
TZOFFSETTO:-0700
TZNAME:MST
DTSTART:20241103T080000
END:STANDARD
BEGIN:DAYLIGHT
TZOFFSETFROM:-0700
TZOFFSETTO:-0600
TZNAME:MDT
DTSTART:20250309T090000
END:DAYLIGHT
BEGIN:STANDARD
TZOFFSETFROM:-0600
TZOFFSETTO:-0700
TZNAME:MST
DTSTART:20251102T080000
END:STANDARD
BEGIN:DAYLIGHT
TZOFFSETFROM:-0700
TZOFFSETTO:-0600
TZNAME:MDT
DTSTART:20260308T090000
END:DAYLIGHT
BEGIN:STANDARD
TZOFFSETFROM:-0600
TZOFFSETTO:-0700
TZNAME:MST
DTSTART:20261101T080000
END:STANDARD
END:VTIMEZONE
BEGIN:VEVENT
DTSTART;TZID=America/Denver:20250520T073000
DTEND;TZID=America/Denver:20250524T093000
DTSTAMP:20260421T092232
CREATED:20250303T151348Z
LAST-MODIFIED:20250710T153100Z
UID:28115-1747726200-1748079000@www.birdconservancy.org
SUMMARY:Pineridge Banding Station - 5/20/2025
DESCRIPTION:Visit our Bird Banding Station located at Pineridge Natural Area this spring! Migration is a magical time of year! Come enjoy a unique opportunity to experience science in action and observe a wildlife biologist banding and collecting important scientific data on live\, migrating birds. The data collected gives us insight to many aspects of avian life history and can be used to inform conservation decisions. \nThe Pineridge Banding Station is open from April 26th – May 31st\, 2025. \nOne hour programs are available Tuesday – Friday from 7:30-8:30 a.m. and Saturdays from 7:30-8:30 a.m. and 8:30 – 9:30 a.m. (closed Sunday & Mondays). \nThe programs are provided at no cost\, but registration is required! \n \nSchedule is weather permitting. Station is closed during precipitation or high winds\, and may close early during very hot weather and open later if very cold. Parking closest to the Banding Station is at Maxwell Natural Area (3502 CR 42C Fort Collins\, CO). From there\, access to the Station requires a very short walk across a road\, then down and up a small hill on a packed dirt trail. Please note\, this location is not easily wheelchair accessible. \nPlease note: Please check the website below for up to date closures of Pineridge Natural Area. If Pineridge Natural Area is closed\, the banding station is closed as well.\nhttps://www.fcgov.com/naturalareas/status \nPlease contact Education Manager\, Stephanie Wheeler or (970) 482-1707 x 40 for more information.
URL:https://www.birdconservancy.org/event/pineridge-banding-station-5/
LOCATION:Maxwell Natural Area\, 3502 CR 42C\, Fort Collins\, CO\, 80526
CATEGORIES:Community Program
ATTACH;FMTTYPE=image/webp:https://www.birdconservancy.org/wp-content/uploads/2025/02/Website-1-About-Us-Mission-Vision-.webp
ORGANIZER;CN="Stephanie Wheeler%2C Education Manager":MAILTO:stephanie.wheeler@birdconservancy.org
END:VEVENT
BEGIN:VEVENT
DTSTART;TZID=America/Denver:20250524T080000
DTEND;TZID=America/Denver:20250524T100000
DTSTAMP:20260421T092232
CREATED:20250401T180414Z
LAST-MODIFIED:20251003T214307Z
UID:28274-1748073600-1748080800@www.birdconservancy.org
SUMMARY:Panhandle Trail Feathers: Riverside Park
DESCRIPTION:Did you know that western Nebraska is a fantastic place to see birds? Our unique and vast habitats allow numerous bird species to thrive here throughout the year. Whether you are new to birds & birding or an avid birder\, we invite you to join Bird Conservancy of the Rockies staff to explore different sites around the panhandle each month and learn about the winged wonders that share our home. This is a great opportunity to connect not only to birds but also to nature and other outdoor enthusiasts. \nBinoculars and field guides will be available to borrow. Please wear comfortable walking shoes and be prepared to be outside for two hours. There is one porta-potty in the gravel parking lot. We will be walking along the flat gravel roads\, among the sandpits. \nClick here to register! \nTrail Feathers will be gathering in the parking lot of the YMCA Trails West Camp at 1918 Beltline Hwy W\, Scottsbluff\, NE 69363. \nFor more information: noelle.grunwald@birdconservancy.org or 308-633-1013. \nThanks to generous support from individual donations\, our programs are offered at NO COST to you! Want to help keep our programs at no cost? Consider donating to Bird Conservancy’s – Nebraska Education Program. Donate here! \nAll are welcome. Our community of practice is to be an organization that empowers people of all backgrounds\, beliefs\, colors\, and creeds to join in\, benefit from\, and contribute to our mission. We strive to ensure everyone feels safe and included at our programs and events\, and can find a place for themselves in nature.
URL:https://www.birdconservancy.org/event/panhandle-trail-feathers-riverside-park/
LOCATION:YMCA Trails West Camp\, 1918 Beltline Hwy W.\, Scottsbluff\, NE\, 69363
CATEGORIES:Community Program
ORGANIZER;CN="Noelle Grunwald%2C Environmental Educator":MAILTO:noelle.grunwald@birdconservancy.org
END:VEVENT
END:VCALENDAR